{
 "currentVersion": 11.2,
 "serviceDescription": "MMIS/ConstructionRasters_Exposure",
 "name": "MMIS/ConstructionRasters_Exposure",
 "description": "",
 "extent": {
  "xmin": -1.04039184813509E7,
  "ymin": 2959476.8980092504,
  "xmax": -8242583.1739947535,
  "ymax": 4821406.684978726,
  "spatialReference": {
   "wkid": 102100,
   "latestWkid": 3857
  }
 },
 "initialExtent": {
  "xmin": -1.04039184813509E7,
  "ymin": 2959476.8980092504,
  "xmax": -8242583.1739947535,
  "ymax": 4821406.684978726,
  "spatialReference": {
   "wkid": 102100,
   "latestWkid": 3857
  }
 },
 "fullExtent": {
  "xmin": -1.04039184813509E7,
  "ymin": 2959476.8980092504,
  "xmax": -8242583.1739947535,
  "ymax": 4821406.684978726,
  "spatialReference": {
   "wkid": 102100,
   "latestWkid": 3857
  }
 },
 "sortableFields": "MinPS,MaxPS,LowPS,HighPS,CenterX,CenterY,ZOrder,Shape.STArea(),Shape.STLength(),ProcessDate",
 "bandCount": 1,
 "pixelType": "F64",
 "minValues": [
  0.0022
 ],
 "maxValues": [
  7.8252
 ],
 "meanValues": [
  0.6723955054254211
 ],
 "stdvValues": [
  1.1124957038125791
 ],
 "hasMultidimensions": false,
 "pixelSizeX": 54.62607560420935,
 "pixelSizeY": 54.626075604209355,
 "meanPixelSize": 54.62607560420935,
 "datasetFormat": "AMD",
 "uncompressedSize": 10788856880,
 "blockWidth": 2048,
 "blockHeight": 256,
 "compressionType": "None",
 "bandNames": [
  "Band_1"
 ],
 "allowCopy": true,
 "allowAnalysis": true,
 "itemAccess": false,
 "inspectionCapabilities": "",
 "minPixelSize": 0,
 "maxPixelSize": 0,
 "copyrightText": "",
 "serviceDataType": "esriImageServiceDataTypeGeneric",
 "serviceSourceType": "esriImageServiceSourceTypeMosaicDataset",
 "objectIdField": "OBJECTID",
 "fields": [
  {
   "name": "OBJECTID",
   "type": "esriFieldTypeOID",
   "alias": "OBJECTID",
   "domain": null
  },
  {
   "name": "Name",
   "type": "esriFieldTypeString",
   "alias": "Name",
   "domain": null,
   "length": 200
  },
  {
   "name": "MinPS",
   "type": "esriFieldTypeDouble",
   "alias": "MinPS",
   "domain": null
  },
  {
   "name": "MaxPS",
   "type": "esriFieldTypeDouble",
   "alias": "MaxPS",
   "domain": null
  },
  {
   "name": "LowPS",
   "type": "esriFieldTypeDouble",
   "alias": "LowPS",
   "domain": null
  },
  {
   "name": "HighPS",
   "type": "esriFieldTypeDouble",
   "alias": "HighPS",
   "domain": null
  },
  {
   "name": "Category",
   "type": "esriFieldTypeInteger",
   "alias": "Category",
   "domain": {
    "type": "codedValue",
    "name": "MosaicCatalogItemCategoryDomain",
    "description": "Catalog item categories.",
    "codedValues": [
     {
      "name": "Unknown",
      "code": 0
     },
     {
      "name": "Primary",
      "code": 1
     },
     {
      "name": "Overview",
      "code": 2
     },
     {
      "name": "Unprocessed Overview",
      "code": 3
     },
     {
      "name": "Partial Overview",
      "code": 4
     },
     {
      "name": "Uploaded",
      "code": 253
     },
     {
      "name": "Incomplete",
      "code": 254
     },
     {
      "name": "Custom",
      "code": 255
     }
    ],
    "mergePolicy": "esriMPTDefaultValue",
    "splitPolicy": "esriSPTDefaultValue"
   }
  },
  {
   "name": "Tag",
   "type": "esriFieldTypeString",
   "alias": "Tag",
   "domain": null,
   "length": 100
  },
  {
   "name": "GroupName",
   "type": "esriFieldTypeString",
   "alias": "GroupName",
   "domain": null,
   "length": 100
  },
  {
   "name": "ProductName",
   "type": "esriFieldTypeString",
   "alias": "ProductName",
   "domain": null,
   "length": 100
  },
  {
   "name": "CenterX",
   "type": "esriFieldTypeDouble",
   "alias": "CenterX",
   "domain": null
  },
  {
   "name": "CenterY",
   "type": "esriFieldTypeDouble",
   "alias": "CenterY",
   "domain": null
  },
  {
   "name": "ZOrder",
   "type": "esriFieldTypeInteger",
   "alias": "ZOrder",
   "domain": null
  },
  {
   "name": "SupplementalInfo",
   "type": "esriFieldTypeString",
   "alias": "Supplemental Information\n\n",
   "domain": null,
   "length": 4000
  },
  {
   "name": "LeaseNo",
   "type": "esriFieldTypeString",
   "alias": "Lease Number\n",
   "domain": null,
   "length": 50
  },
  {
   "name": "ExpUnits",
   "type": "esriFieldTypeString",
   "alias": "Raster Units\n",
   "domain": null,
   "length": 10
  },
  {
   "name": "ProcessDate",
   "type": "esriFieldTypeInteger",
   "alias": "ProcessDate\n",
   "domain": null
  },
  {
   "name": "ReferenceDocument",
   "type": "esriFieldTypeString",
   "alias": "Reference Document\n",
   "domain": null,
   "length": 500
  },
  {
   "name": "MetaLink",
   "type": "esriFieldTypeString",
   "alias": "Metadata Link",
   "domain": null,
   "length": 500
  },
  {
   "name": "Completeness",
   "type": "esriFieldTypeString",
   "alias": "Completeness\n",
   "domain": {
    "type": "codedValue",
    "name": "Complete",
    "description": "Exposure Completeness",
    "codedValues": [
     {
      "name": "Partial",
      "code": "Partial"
     },
     {
      "name": "Complete",
      "code": "Complete"
     }
    ],
    "mergePolicy": "esriMPTDefaultValue",
    "splitPolicy": "esriSPTDefaultValue"
   },
   "length": 10
  },
  {
   "name": "Constraints",
   "type": "esriFieldTypeString",
   "alias": "Access Constraints\n",
   "domain": {
    "type": "codedValue",
    "name": "Constraints",
    "description": "Access Constraints",
    "codedValues": [
     {
      "name": "Option 1",
      "code": "1"
     },
     {
      "name": "Option 2",
      "code": "2"
     }
    ],
    "mergePolicy": "esriMPTDefaultValue",
    "splitPolicy": "esriSPTDefaultValue"
   },
   "length": 3
  },
  {
   "name": "MetaFile",
   "type": "esriFieldTypeString",
   "alias": "Metadata File",
   "domain": null,
   "length": 250
  },
  {
   "name": "GlobalLeaseRasterID",
   "type": "esriFieldTypeGUID",
   "alias": "Global Lease Raster ID",
   "domain": null,
   "length": 38
  },
  {
   "name": "Shape",
   "type": "esriFieldTypeGeometry",
   "alias": "Shape",
   "domain": null
  },
  {
   "name": "CoordSystem",
   "type": "esriFieldTypeString",
   "alias": "Original Coordinate System",
   "domain": null,
   "length": 50
  },
  {
   "name": "Shape.STArea()",
   "type": "esriFieldTypeDouble",
   "alias": "Shape.STArea()",
   "domain": null
  },
  {
   "name": "Shape.STLength()",
   "type": "esriFieldTypeDouble",
   "alias": "Shape.STLength()",
   "domain": null
  }
 ],
 "capabilities": "Image,Metadata,Catalog,Mensuration",
 "defaultMosaicMethod": "Northwest",
 "allowedMosaicMethods": "NorthWest,Center,LockRaster,ByAttribute,Nadir,Viewpoint,Seamline,None",
 "sortField": "",
 "sortValue": null,
 "sortAscending": true,
 "mosaicOperator": "First",
 "maxDownloadSizeLimit": 2048,
 "defaultCompressionQuality": 75,
 "defaultResamplingMethod": "Bilinear",
 "maxImageHeight": 4100,
 "maxImageWidth": 15000,
 "maxRecordCount": 1000,
 "maxDownloadImageCount": 20,
 "maxMosaicImageCount": 20,
 "allowRasterFunction": true,
 "rasterFunctionInfos": [
  {
   "name": "None",
   "description": "A No-Op Function.",
   "help": ""
  }
 ],
 "rasterTypeInfos": [
  {
   "name": "Raster Dataset",
   "description": "Supports all ArcGIS Raster Datasets",
   "help": ""
  }
 ],
 "mensurationCapabilities": "Basic",
 "hasHistograms": true,
 "hasColormap": false,
 "hasRasterAttributeTable": false,
 "minScale": 0,
 "maxScale": 0,
 "exportTilesAllowed": false,
 "supportsStatistics": true,
 "supportsAdvancedQueries": true,
 "editFieldsInfo": null,
 "ownershipBasedAccessControlForRasters": null,
 "allowComputeTiePoints": false,
 "useStandardizedQueries": true,
 "advancedQueryCapabilities": {
  "useStandardizedQueries": true,
  "supportsStatistics": true,
  "supportsOrderBy": true,
  "supportsDistinct": true,
  "supportsPagination": true
 },
 "spatialReference": {
  "wkid": 102100,
  "latestWkid": 3857
 }
}
