View In:
ArcGIS JavaScript
ArcGIS Online Map Viewer
ArcGIS Earth
Service Description: MMIS/ConstructionRasters_Exposure
Name: MMIS/ConstructionRasters_Exposure
Description:
Single Fused Map Cache: false
Extent:
XMin: -1.04039184813509E7
YMin: 2959476.8980092504
XMax: -8242583.1739947535
YMax: 4821406.684978726
Spatial Reference: 102100
(3857)
Initial Extent:
XMin: -1.04039184813509E7
YMin: 2959476.8980092504
XMax: -8242583.1739947535
YMax: 4821406.684978726
Spatial Reference: 102100
(3857)
Full Extent:
XMin: -1.04039184813509E7
YMin: 2959476.8980092504
XMax: -8242583.1739947535
YMax: 4821406.684978726
Spatial Reference: 102100
(3857)
Pixel Size X: 54.62607560420935
Pixel Size Y: 54.626075604209355
Band Count: 1
Pixel Type: F64
RasterFunction Infos: {"rasterFunctionInfos": [{
"name": "None",
"description": "A No-Op Function.",
"help": ""
}]}
Mensuration Capabilities: Basic
Inspection Capabilities:
Has Histograms: true
Has Colormap: false
Has Multi Dimensions : false
Rendering Rule:
Min Scale: 0
Max Scale: 0
Copyright Text:
Service Data Type: esriImageServiceDataTypeGeneric
Min Values: 0.0022
Max Values: 7.8252
Mean Values: 0.6723955054254211
Standard Deviation Values: 1.1124957038125791
Object ID Field: OBJECTID
Fields:
-
OBJECTID
(
type: esriFieldTypeOID, alias: OBJECTID
)
-
Name
(
type: esriFieldTypeString, alias: Name, length: 200
)
-
MinPS
(
type: esriFieldTypeDouble, alias: MinPS
)
-
MaxPS
(
type: esriFieldTypeDouble, alias: MaxPS
)
-
LowPS
(
type: esriFieldTypeDouble, alias: LowPS
)
-
HighPS
(
type: esriFieldTypeDouble, alias: HighPS
)
-
Category
(
type: esriFieldTypeInteger, alias: Category
,
Coded Values:
[0: Unknown]
,
[1: Primary]
,
[2: Overview]
, ...5 more...
)
-
Tag
(
type: esriFieldTypeString, alias: Tag, length: 100
)
-
GroupName
(
type: esriFieldTypeString, alias: GroupName, length: 100
)
-
ProductName
(
type: esriFieldTypeString, alias: ProductName, length: 100
)
-
CenterX
(
type: esriFieldTypeDouble, alias: CenterX
)
-
CenterY
(
type: esriFieldTypeDouble, alias: CenterY
)
-
ZOrder
(
type: esriFieldTypeInteger, alias: ZOrder
)
-
SupplementalInfo
(
type: esriFieldTypeString, alias: Supplemental Information
, length: 4000
)
-
LeaseNo
(
type: esriFieldTypeString, alias: Lease Number
, length: 50
)
-
ExpUnits
(
type: esriFieldTypeString, alias: Raster Units
, length: 10
)
-
ProcessDate
(
type: esriFieldTypeInteger, alias: ProcessDate
)
-
ReferenceDocument
(
type: esriFieldTypeString, alias: Reference Document
, length: 500
)
-
MetaLink
(
type: esriFieldTypeString, alias: Metadata Link, length: 500
)
-
Completeness
(
type: esriFieldTypeString, alias: Completeness
, length: 10
,
Coded Values:
[Partial: Partial]
,
[Complete: Complete]
)
-
Constraints
(
type: esriFieldTypeString, alias: Access Constraints
, length: 3
,
Coded Values:
[1: Option 1]
,
[2: Option 2]
)
-
MetaFile
(
type: esriFieldTypeString, alias: Metadata File, length: 250
)
-
GlobalLeaseRasterID
(
type: esriFieldTypeGUID, alias: Global Lease Raster ID, length: 38
)
-
Shape
(
type: esriFieldTypeGeometry, alias: Shape
)
-
CoordSystem
(
type: esriFieldTypeString, alias: Original Coordinate System, length: 50
)
-
Shape.STArea()
(
type: esriFieldTypeDouble, alias: Shape.STArea()
)
-
Shape.STLength()
(
type: esriFieldTypeDouble, alias: Shape.STLength()
)
Default Mosaic Method: Northwest
Allowed Mosaic Methods: NorthWest,Center,LockRaster,ByAttribute,Nadir,Viewpoint,Seamline,None
SortField:
SortValue: null
Mosaic Operator: First
Default Compression Quality: 75
Default Resampling Method: Bilinear
Max Record Count: 1000
Max Image Height: 4100
Max Image Width: 15000
Max Download Image Count: 20
Max Mosaic Image Count: 20
Allow Raster Function: true
Allow Copy: true
Allow Analysis: true
Allow Compute TiePoints: false
Supports Statistics: true
Supports Advanced Queries: true
Use StandardizedQueries: true
Raster Type Infos:
Name: Raster Dataset
Description: Supports all ArcGIS Raster Datasets
Help:
Has Raster Attribute Table: false
Edit Fields Info: null
Ownership Based AccessControl For Rasters: null
Child Resources:
Info
Histograms
Statistics
Key Properties
Legend
Raster Function Infos
Supported Operations:
Export Image
Query
Identify
Measure
Compute Histograms
Compute Statistics Histograms
Get Samples
Compute Class Statistics
Query GPS Info
Find Images
Image to Map
Map to Image
Measure from Image
Image to Map Multiray
Query Boundary
Compute Pixel Location
Compute Angles
Validate
Project